BEGIN:VCALENDAR
VERSION:2.0
PRODID:-//Central Square Inc. - ECPv6.15.20//NONSGML v1.0//EN
CALSCALE:GREGORIAN
METHOD:PUBLISH
X-ORIGINAL-URL:https://centralsquare.org
X-WR-CALDESC:Events for Central Square Inc.
REFRESH-INTERVAL;VALUE=DURATION:PT1H
X-Robots-Tag:noindex
X-PUBLISHED-TTL:PT1H
BEGIN:VTIMEZONE
TZID:America/Chicago
BEGIN:DAYLIGHT
TZOFFSETFROM:-0600
TZOFFSETTO:-0500
TZNAME:CDT
DTSTART:20240310T080000
END:DAYLIGHT
BEGIN:STANDARD
TZOFFSETFROM:-0500
TZOFFSETTO:-0600
TZNAME:CST
DTSTART:20241103T070000
END:STANDARD
BEGIN:DAYLIGHT
TZOFFSETFROM:-0600
TZOFFSETTO:-0500
TZNAME:CDT
DTSTART:20250309T080000
END:DAYLIGHT
BEGIN:STANDARD
TZOFFSETFROM:-0500
TZOFFSETTO:-0600
TZNAME:CST
DTSTART:20251102T070000
END:STANDARD
BEGIN:DAYLIGHT
TZOFFSETFROM:-0600
TZOFFSETTO:-0500
TZNAME:CDT
DTSTART:20260308T080000
END:DAYLIGHT
BEGIN:STANDARD
TZOFFSETFROM:-0500
TZOFFSETTO:-0600
TZNAME:CST
DTSTART:20261101T070000
END:STANDARD
END:VTIMEZONE
BEGIN:VEVENT
DTSTART;TZID=America/Chicago:20251204T180000
DTEND;TZID=America/Chicago:20251204T200000
DTSTAMP:20260424T114002
CREATED:20251126T171729Z
LAST-MODIFIED:20251126T173456Z
UID:21958-1764871200-1764878400@centralsquare.org
SUMMARY:Open Art Studio & Wellness Activity
DESCRIPTION:When: 1st Thursday of every month—Drop in anytime between 6 and 8 PM\nWhere: Central Square Art Studio (Suite 209)\nCost: Free to all\, limited art supplies included\nWho: All are welcome \nLooking for a space to relax\, recharge\, and get creative? Join us for a drop-in evening designed to nurture both your creativity and your well-being. \nEach evening offers: \n\nOpen Studio Time—Use our art supplies or bring your own projects and enjoy a welcoming\, communal space.\nOptional Guided Activity—Explore simple\, wellness-focused art projects led by our own Program Manager\, Jes Baggett. Activities may include mindful mandalas\, gratitude collages\, expressive painting\, nature prints\, and more!\n\nNo experience necessary—just bring yourself and a willingness to explore. Whether you’re looking to de-stress\, connect with others\, or simply make time for art\, this is a space for you! \nClick here to register for this event through MAS Community Ed.
URL:https://centralsquare.org/event/open-art-studio-wellness-activity-2/
ATTACH;FMTTYPE=image/png:https://centralsquare.org/wp-content/uploads/2025/11/Open-Art-Studio_Event-Graphic_12-04-2025.png
END:VEVENT
END:VCALENDAR