BEGIN:VCALENDAR
VERSION:2.0
PRODID:-//Central Square Inc. - ECPv6.15.20//NONSGML v1.0//EN
CALSCALE:GREGORIAN
METHOD:PUBLISH
X-WR-CALNAME:Central Square Inc.
X-ORIGINAL-URL:https://centralsquare.org
X-WR-CALDESC:Events for Central Square Inc.
REFRESH-INTERVAL;VALUE=DURATION:PT1H
X-Robots-Tag:noindex
X-PUBLISHED-TTL:PT1H
BEGIN:VTIMEZONE
TZID:America/Chicago
BEGIN:DAYLIGHT
TZOFFSETFROM:-0600
TZOFFSETTO:-0500
TZNAME:CDT
DTSTART:20240310T080000
END:DAYLIGHT
BEGIN:STANDARD
TZOFFSETFROM:-0500
TZOFFSETTO:-0600
TZNAME:CST
DTSTART:20241103T070000
END:STANDARD
BEGIN:DAYLIGHT
TZOFFSETFROM:-0600
TZOFFSETTO:-0500
TZNAME:CDT
DTSTART:20250309T080000
END:DAYLIGHT
BEGIN:STANDARD
TZOFFSETFROM:-0500
TZOFFSETTO:-0600
TZNAME:CST
DTSTART:20251102T070000
END:STANDARD
BEGIN:DAYLIGHT
TZOFFSETFROM:-0600
TZOFFSETTO:-0500
TZNAME:CDT
DTSTART:20260308T080000
END:DAYLIGHT
BEGIN:STANDARD
TZOFFSETFROM:-0500
TZOFFSETTO:-0600
TZNAME:CST
DTSTART:20261101T070000
END:STANDARD
END:VTIMEZONE
BEGIN:VEVENT
DTSTART;TZID=America/Chicago:20250718T170000
DTEND;TZID=America/Chicago:20250718T200000
DTSTAMP:20260425T054141
CREATED:20250425T045836Z
LAST-MODIFIED:20250626T175108Z
UID:21838-1752858000-1752868800@centralsquare.org
SUMMARY:Music on the Lawn at Terrace Mill
DESCRIPTION:Join us this summer for our annual Music on the Lawn—a series of three free\, family-friendly evenings of live music and fun\, presented in partnership with the Terrace Mill Foundation. While our historic Glenwood venue undergoes a much-anticipated renovation\, we’re grateful to continue offering this annual summer series in the scenic setting of the Terrace Mill. \nEach event features acclaimed musicians—including Charlie Roth and his talented singer-songwriter friends—and begins with a one-hour Singer-Songwriter Circle workshop. No experience or supplies needed—just bring a question\, an instrument\, or a notebook if you’d like! Enjoy live music\, fun outdoor activities for all ages\, and a chance to connect with fellow arts lovers. \nSchedule \n\n5:00–6:00 PM | Singer-Songwriter Circle Q&A\n5:00–8:00 PM | Concessions + Free Arts Activities\n6:00 PM–6:30 PM | Performer Intermission\n6:30–8:00 PM | Live Music\n\n2025 Music on the Lawn Lineup\n \n\nFriday\, June 13 – The Flyin’ A’s (High-energy Americana with a Texas kick)\nFriday\, July 18 – Prairie Hearts Collective (Americana\, Folk\, Country\, Blues & Celtic flair)\nFriday\, August 15 – Songwriters in the Round featuring Jeff Ray and Dylan Walshe\n\nThese events are free and open to all. \nNEW RAIN LOCATION: Indoor performance space on the second floor of the Terrace Mill\nLearn more at centralsquare.org or contact us at (320) 634–0400 or info@centralsquare.org. \nWe are deeply grateful to American Solutions for Business and FAST Global Solutions for being proud sponsors of this year’s Music on the Lawn series.
URL:https://centralsquare.org/event/music-on-the-lawn-at-terrace-mill/
LOCATION:Terrace Mill\, 27165 Old Mill Pond Rd\, Glenwood\, MN\, 56334\, United States
CATEGORIES:Art,Live Music
ATTACH;FMTTYPE=image/png:https://centralsquare.org/wp-content/uploads/2025/04/CSQ_Music-on-the-Lawn-Final-Event-Graphic_2025.png
ORGANIZER;CN="Central Square Inc.":MAILTO:info@centralsquare.org
END:VEVENT
END:VCALENDAR