BEGIN:VCALENDAR
VERSION:2.0
PRODID:-//Central Square Inc. - ECPv6.15.20//NONSGML v1.0//EN
CALSCALE:GREGORIAN
METHOD:PUBLISH
X-WR-CALNAME:Central Square Inc.
X-ORIGINAL-URL:https://centralsquare.org
X-WR-CALDESC:Events for Central Square Inc.
REFRESH-INTERVAL;VALUE=DURATION:PT1H
X-Robots-Tag:noindex
X-PUBLISHED-TTL:PT1H
BEGIN:VTIMEZONE
TZID:America/Chicago
BEGIN:DAYLIGHT
TZOFFSETFROM:-0600
TZOFFSETTO:-0500
TZNAME:CDT
DTSTART:20250309T080000
END:DAYLIGHT
BEGIN:STANDARD
TZOFFSETFROM:-0500
TZOFFSETTO:-0600
TZNAME:CST
DTSTART:20251102T070000
END:STANDARD
BEGIN:DAYLIGHT
TZOFFSETFROM:-0600
TZOFFSETTO:-0500
TZNAME:CDT
DTSTART:20260308T080000
END:DAYLIGHT
BEGIN:STANDARD
TZOFFSETFROM:-0500
TZOFFSETTO:-0600
TZNAME:CST
DTSTART:20261101T070000
END:STANDARD
BEGIN:DAYLIGHT
TZOFFSETFROM:-0600
TZOFFSETTO:-0500
TZNAME:CDT
DTSTART:20270314T080000
END:DAYLIGHT
BEGIN:STANDARD
TZOFFSETFROM:-0500
TZOFFSETTO:-0600
TZNAME:CST
DTSTART:20271107T070000
END:STANDARD
END:VTIMEZONE
BEGIN:VEVENT
DTSTART;TZID=America/Chicago:20260115T180000
DTEND;TZID=America/Chicago:20260115T200000
DTSTAMP:20260424T104631
CREATED:20251009T192841Z
LAST-MODIFIED:20251009T192841Z
UID:21933-1768500000-1768507200@centralsquare.org
SUMMARY:Poetry Class with Athena Kildegaard
DESCRIPTION:Beloved Minnesota poet\, author\, and Creative Writing professor at the University of MN Morris\, Athena Kildegaard\, will lead a creative writing and poetry class in Art Studio 209 on Thursday\, January 15\, 2026\, from 6:00–8:00 PM. Whether you’re new to writing or a seasoned poet\, this class will guide you in exploring language\, imagery\, and voice in a supportive\, creative space. Supplies included and all levels of experience welcome. \nClick to Register
URL:https://centralsquare.org/event/poetry-class-with-athena-kildegaard/
ATTACH;FMTTYPE=image/png:https://centralsquare.org/wp-content/uploads/2025/10/CSQ_PCT-Arts-Advocate_October-2025-7.png
END:VEVENT
END:VCALENDAR