BEGIN:VCALENDAR
VERSION:2.0
PRODID:-//Central Square Inc. - ECPv6.15.20//NONSGML v1.0//EN
CALSCALE:GREGORIAN
METHOD:PUBLISH
X-ORIGINAL-URL:https://centralsquare.org
X-WR-CALDESC:Events for Central Square Inc.
REFRESH-INTERVAL;VALUE=DURATION:PT1H
X-Robots-Tag:noindex
X-PUBLISHED-TTL:PT1H
BEGIN:VTIMEZONE
TZID:America/Chicago
BEGIN:DAYLIGHT
TZOFFSETFROM:-0600
TZOFFSETTO:-0500
TZNAME:CDT
DTSTART:20240310T080000
END:DAYLIGHT
BEGIN:STANDARD
TZOFFSETFROM:-0500
TZOFFSETTO:-0600
TZNAME:CST
DTSTART:20241103T070000
END:STANDARD
BEGIN:DAYLIGHT
TZOFFSETFROM:-0600
TZOFFSETTO:-0500
TZNAME:CDT
DTSTART:20250309T080000
END:DAYLIGHT
BEGIN:STANDARD
TZOFFSETFROM:-0500
TZOFFSETTO:-0600
TZNAME:CST
DTSTART:20251102T070000
END:STANDARD
BEGIN:DAYLIGHT
TZOFFSETFROM:-0600
TZOFFSETTO:-0500
TZNAME:CDT
DTSTART:20260308T080000
END:DAYLIGHT
BEGIN:STANDARD
TZOFFSETFROM:-0500
TZOFFSETTO:-0600
TZNAME:CST
DTSTART:20261101T070000
END:STANDARD
END:VTIMEZONE
BEGIN:VEVENT
DTSTART;TZID=America/Chicago:20251120T180000
DTEND;TZID=America/Chicago:20251120T200000
DTSTAMP:20260424T095405
CREATED:20251009T182741Z
LAST-MODIFIED:20251009T193313Z
UID:21923-1763661600-1763668800@centralsquare.org
SUMMARY:Open Pottery Studio
DESCRIPTION:When: 3rd Thursday of every month—Drop in anytime between 6 and 8 PM\nWhere: Central Square Art Studio (Suite 209)\nCost: Free to all\, limited art supplies included\nWho: All are welcome \nCome explore your creativity with clay in our open pottery studio! This is a relaxed\, come-as-you-are space where you can try the wheel\, hand-building\, or glazing at your own pace. Whether you’re brand new to pottery or already have experience\, the studio is set up for you to explore\, practice\, and connect with others. \nWe’ll provide the space\, equipment\, and materials—you just bring your curiosity. Instructors will be on hand to offer guidance and answer questions\, but the time is yours to shape however you’d like. This free offering is a chance to unwind\, get your hands messy\, and discover the joy of creating something unique out of clay. \nClick here to register for this event through MAS Community Ed!
URL:https://centralsquare.org/event/open-pottery-studio/
CATEGORIES:Art
ATTACH;FMTTYPE=image/png:https://centralsquare.org/wp-content/uploads/2025/10/CSQ_PCT-Arts-Advocate_October-2025-8-1.png
END:VEVENT
END:VCALENDAR