BEGIN:VCALENDAR
VERSION:2.0
PRODID:-//Central Square Inc. - ECPv6.15.20//NONSGML v1.0//EN
CALSCALE:GREGORIAN
METHOD:PUBLISH
X-ORIGINAL-URL:https://centralsquare.org
X-WR-CALDESC:Events for Central Square Inc.
REFRESH-INTERVAL;VALUE=DURATION:PT1H
X-Robots-Tag:noindex
X-PUBLISHED-TTL:PT1H
BEGIN:VTIMEZONE
TZID:America/Chicago
BEGIN:DAYLIGHT
TZOFFSETFROM:-0600
TZOFFSETTO:-0500
TZNAME:CDT
DTSTART:20240310T080000
END:DAYLIGHT
BEGIN:STANDARD
TZOFFSETFROM:-0500
TZOFFSETTO:-0600
TZNAME:CST
DTSTART:20241103T070000
END:STANDARD
BEGIN:DAYLIGHT
TZOFFSETFROM:-0600
TZOFFSETTO:-0500
TZNAME:CDT
DTSTART:20250309T080000
END:DAYLIGHT
BEGIN:STANDARD
TZOFFSETFROM:-0500
TZOFFSETTO:-0600
TZNAME:CST
DTSTART:20251102T070000
END:STANDARD
BEGIN:DAYLIGHT
TZOFFSETFROM:-0600
TZOFFSETTO:-0500
TZNAME:CDT
DTSTART:20260308T080000
END:DAYLIGHT
BEGIN:STANDARD
TZOFFSETFROM:-0500
TZOFFSETTO:-0600
TZNAME:CST
DTSTART:20261101T070000
END:STANDARD
END:VTIMEZONE
BEGIN:VEVENT
DTSTART;TZID=America/Chicago:20251113T180000
DTEND;TZID=America/Chicago:20251113T200000
DTSTAMP:20260424T095409
CREATED:20251009T182307Z
LAST-MODIFIED:20251009T193504Z
UID:21929-1763056800-1763064000@centralsquare.org
SUMMARY:Holiday Ornament-Painting Class with Shauna Loxtercamp
DESCRIPTION:Join local ceramic artist\, Shauna Loxtercamp\, in the Central Square Pottery Studio (Room 207) on Thursday\, November 13\, 2025\, from 6:00–8:00 PM for a festive\, hands-on ornament painting class. You’ll have the chance to paint your own round\, ceramic ornament\, perfect for your holiday décor or as a heartfelt handmade gift. All materials are provided—just bring your creativity! No experience needed. \nClick to Register
URL:https://centralsquare.org/event/holiday-ornament-painting-class-with-shauna-loxtercamp/
CATEGORIES:Art
ATTACH;FMTTYPE=image/png:https://centralsquare.org/wp-content/uploads/2025/10/CSQ_PCT-Arts-Advocate_October-2025-5-2-1.png
END:VEVENT
END:VCALENDAR