BEGIN:VCALENDAR
VERSION:2.0
PRODID:-//Central Square Inc. - ECPv6.15.20//NONSGML v1.0//EN
CALSCALE:GREGORIAN
METHOD:PUBLISH
X-ORIGINAL-URL:https://centralsquare.org
X-WR-CALDESC:Events for Central Square Inc.
REFRESH-INTERVAL;VALUE=DURATION:PT1H
X-Robots-Tag:noindex
X-PUBLISHED-TTL:PT1H
BEGIN:VTIMEZONE
TZID:America/Chicago
BEGIN:DAYLIGHT
TZOFFSETFROM:-0600
TZOFFSETTO:-0500
TZNAME:CDT
DTSTART:20230312T080000
END:DAYLIGHT
BEGIN:STANDARD
TZOFFSETFROM:-0500
TZOFFSETTO:-0600
TZNAME:CST
DTSTART:20231105T070000
END:STANDARD
BEGIN:DAYLIGHT
TZOFFSETFROM:-0600
TZOFFSETTO:-0500
TZNAME:CDT
DTSTART:20240310T080000
END:DAYLIGHT
BEGIN:STANDARD
TZOFFSETFROM:-0500
TZOFFSETTO:-0600
TZNAME:CST
DTSTART:20241103T070000
END:STANDARD
BEGIN:DAYLIGHT
TZOFFSETFROM:-0600
TZOFFSETTO:-0500
TZNAME:CDT
DTSTART:20250309T080000
END:DAYLIGHT
BEGIN:STANDARD
TZOFFSETFROM:-0500
TZOFFSETTO:-0600
TZNAME:CST
DTSTART:20251102T070000
END:STANDARD
END:VTIMEZONE
BEGIN:VEVENT
DTSTART;TZID=America/Chicago:20241114T173000
DTEND;TZID=America/Chicago:20241114T200000
DTSTAMP:20260425T103617
CREATED:20241104T184429Z
LAST-MODIFIED:20241104T184429Z
UID:21774-1731605400-1731614400@centralsquare.org
SUMMARY:Alcohol Ink: Demonstration & Art Class
DESCRIPTION:On Thursday\, November 14th\, Cheryl Larson returns to teach her popular Alcohol Ink Painting class! This session includes a step-by-step demonstration\, giving students a deeper understanding of the techniques used in this unique medium.\nClass fee: $25. Limited need-based scholarships are available—contact us for details!\nReserve your spot at centralsquare.org\, call (320) 634-0400\, or at our office located in the old Glenwood High School.\nRegistration Link: https://ticketpeak.co/centralsquare
URL:https://centralsquare.org/event/alcohol-ink-demonstration-art-class/
LOCATION:Central Square Inc.\, 105 2nd Avenue Northeast\, Glenwood\, MN\, 56334\, United States
CATEGORIES:Art,Education
ATTACH;FMTTYPE=image/png:https://centralsquare.org/wp-content/uploads/2024/11/Alcohol-Ink-Class-3-Event-Graphic-3.png
ORGANIZER;CN="Central Square Inc.":MAILTO:info@centralsquare.org
END:VEVENT
END:VCALENDAR