BEGIN:VCALENDAR
VERSION:2.0
PRODID:-//Central Square Inc. - ECPv6.15.20//NONSGML v1.0//EN
CALSCALE:GREGORIAN
METHOD:PUBLISH
X-WR-CALNAME:Central Square Inc.
X-ORIGINAL-URL:https://centralsquare.org
X-WR-CALDESC:Events for Central Square Inc.
REFRESH-INTERVAL;VALUE=DURATION:PT1H
X-Robots-Tag:noindex
X-PUBLISHED-TTL:PT1H
BEGIN:VTIMEZONE
TZID:America/Chicago
BEGIN:DAYLIGHT
TZOFFSETFROM:-0600
TZOFFSETTO:-0500
TZNAME:CDT
DTSTART:20230312T080000
END:DAYLIGHT
BEGIN:STANDARD
TZOFFSETFROM:-0500
TZOFFSETTO:-0600
TZNAME:CST
DTSTART:20231105T070000
END:STANDARD
BEGIN:DAYLIGHT
TZOFFSETFROM:-0600
TZOFFSETTO:-0500
TZNAME:CDT
DTSTART:20240310T080000
END:DAYLIGHT
BEGIN:STANDARD
TZOFFSETFROM:-0500
TZOFFSETTO:-0600
TZNAME:CST
DTSTART:20241103T070000
END:STANDARD
BEGIN:DAYLIGHT
TZOFFSETFROM:-0600
TZOFFSETTO:-0500
TZNAME:CDT
DTSTART:20250309T080000
END:DAYLIGHT
BEGIN:STANDARD
TZOFFSETFROM:-0500
TZOFFSETTO:-0600
TZNAME:CST
DTSTART:20251102T070000
END:STANDARD
END:VTIMEZONE
BEGIN:VEVENT
DTSTART;TZID=America/Chicago:20240501T180000
DTEND;TZID=America/Chicago:20240501T200000
DTSTAMP:20260425T214125
CREATED:20240410T210526Z
LAST-MODIFIED:20240411T202630Z
UID:21572-1714586400-1714593600@centralsquare.org
SUMMARY:Fiction Writing Fundamentals
DESCRIPTION:Date & Time: Wednesday\, May 1st\, 8th\, 15th\, and 22nd\, from 6–8 PM  \nHave you ever felt the desire to write a story? Join University of MN Morris English Professor\, Joshua Johnson\, for a four-session creative writing workshop. This workshop is designed for aspiring writers who want to discover and strengthen their fiction writing skills. Participants will explore narrative tools and elements essential to creating compelling stories. From character development to narrative structure\, attendees will gain practical experience and valuable insights to begin their own fiction writing projects.   \nNo prior experience is required—just bring your imagination! This class will take place in Central Square’s Art Studio\, Room 209 on the second floor. The class fee for all four sessions is $100.  \n Click here to register.  \n At Central Square\, we are dedicated to making sure everyone gets to participate. We strive to remove all barriers that could be in the way of a student participating. Limited scholarships are available for our adult art classes. If you would like to apply for a scholarship\, please contact Jes at (320)634–0400.  \n This activity is made possible by the voters of Minnesota through a grant from the Minnesota State Arts Board\, thanks to a legislative appropriation from the arts and cultural heritage fund. 
URL:https://centralsquare.org/event/fiction-writing-fundamentals/
LOCATION:Central Square Inc.\, 105 2nd Avenue Northeast\, Glenwood\, MN\, 56334\, United States
CATEGORIES:Art,Education
ATTACH;FMTTYPE=image/png:https://centralsquare.org/wp-content/uploads/2024/04/Class-Event-Graphic.png
END:VEVENT
END:VCALENDAR