BEGIN:VCALENDAR
VERSION:2.0
PRODID:-//Central Square Inc. - ECPv6.15.20//NONSGML v1.0//EN
CALSCALE:GREGORIAN
METHOD:PUBLISH
X-WR-CALNAME:Central Square Inc.
X-ORIGINAL-URL:https://centralsquare.org
X-WR-CALDESC:Events for Central Square Inc.
REFRESH-INTERVAL;VALUE=DURATION:PT1H
X-Robots-Tag:noindex
X-PUBLISHED-TTL:PT1H
BEGIN:VTIMEZONE
TZID:America/Chicago
BEGIN:DAYLIGHT
TZOFFSETFROM:-0600
TZOFFSETTO:-0500
TZNAME:CDT
DTSTART:20250309T080000
END:DAYLIGHT
BEGIN:STANDARD
TZOFFSETFROM:-0500
TZOFFSETTO:-0600
TZNAME:CST
DTSTART:20251102T070000
END:STANDARD
BEGIN:DAYLIGHT
TZOFFSETFROM:-0600
TZOFFSETTO:-0500
TZNAME:CDT
DTSTART:20260308T080000
END:DAYLIGHT
BEGIN:STANDARD
TZOFFSETFROM:-0500
TZOFFSETTO:-0600
TZNAME:CST
DTSTART:20261101T070000
END:STANDARD
BEGIN:DAYLIGHT
TZOFFSETFROM:-0600
TZOFFSETTO:-0500
TZNAME:CDT
DTSTART:20270314T080000
END:DAYLIGHT
BEGIN:STANDARD
TZOFFSETFROM:-0500
TZOFFSETTO:-0600
TZNAME:CST
DTSTART:20271107T070000
END:STANDARD
END:VTIMEZONE
BEGIN:VEVENT
DTSTART;TZID=America/Chicago:20260718T190000
DTEND;TZID=America/Chicago:20260718T210000
DTSTAMP:20260423T134703
CREATED:20251218T215038Z
LAST-MODIFIED:20260306T193803Z
UID:22014-1784401200-1784408400@centralsquare.org
SUMMARY:I Am\, He Said — A Celebration of Neil Diamond Starring Matt Vee & The Killer Vees
DESCRIPTION:This tribute concert honors the music of Neil Diamond\, led by singer\, guitarist\, and songwriter Matt Vee—nephew of 1960s pop icon Bobby Vee. Matt tours internationally with his cousins and bandmates Jeff and Tommy Vee (sons of Bobby Vee) and his wife\, Julie Velline\, performing in various musical configurations under the name The Killer Vees. \nTheir acclaimed production\, I Am\, He Said—A Celebration of the Music of Neil Diamond\, has been performed for tens of thousands of audiences nationwide. Featuring faithful arrangements and strong musicianship\, the concert spans Diamond’s career and invites listeners to reconnect with one of the most enduring catalogs in American popular music. \nTo purchase tickets\, click here!  \nOr contact Central Square: \nPhone: (320)634–0400\nEmail: info@centralsquare.org\nLocation: 105 2nd Avenue Northeast Ste. 108 Glenwood\, MN 56334 \nThis activity is made possible by the voters of Minnesota through a grant from the Minnesota State Arts Board\, thanks to a legislative appropriation from the arts and cultural heritage fund. 
URL:https://centralsquare.org/event/neil-diamond-the-killer-vees/
LOCATION:Central Square Inc.\, 105 2nd Avenue Northeast\, Glenwood\, MN\, 56334\, United States
CATEGORIES:Live Music
ATTACH;FMTTYPE=image/jpeg:https://centralsquare.org/wp-content/uploads/2025/12/The-Killer-Vees.jpg
ORGANIZER;CN="Central Square Inc.":MAILTO:info@centralsquare.org
END:VEVENT
BEGIN:VEVENT
DTSTART;TZID=America/Chicago:20260808T190000
DTEND;TZID=America/Chicago:20260808T210000
DTSTAMP:20260423T134703
CREATED:20251218T215011Z
LAST-MODIFIED:20260306T193703Z
UID:22017-1786215600-1786222800@centralsquare.org
SUMMARY:Weary Ramblers — Award-Winning Americana Duo
DESCRIPTION:Weary Ramblers is an Iowa-based Americana duo featuring Chad Elliott and Kathryn Severing Fox. Drawing on folk\, roots\, and acoustic traditions\, their music centers on songwriting\, harmony\, and story. Both artists bring years of touring and recording experience\, performing as multi-instrumentalists with a shared focus on craft and connection.  \nThe duo has received national and international recognition\, including wins at the 2025 Josie Music Awards (Americana Song of the Year)\, the 2025 Iowa Blues Challenge (Solo/Duo)\, and the International Acoustic Music Awards (Best Group/Duo). Their work has also earned semi-finalist placements in the International Songwriting Competition and Unsigned Only Music Awards.  \nWeary Ramblers’ recordings have charted prominently on the Roots Music Report\, including multiple #1 positions on the Contemporary Folk charts and extended runs among the top folk albums nationally. Their performances offer a focused\, listening-room experience shaped by strong songwriting\, close harmonies\, and seasoned musicianship.  \n  \nTo purchase tickets or learn more\, click here!   \nOr contact Central Square:\nPhone: (320)634–0400\nEmail: info@centralsquare.org\nLocation: 105 2nd Avenue Northeast Ste. 108 Glenwood\, MN 56334  \nThis activity is made possible by the voters of Minnesota through a grant from the Minnesota State Arts Board\, thanks to a legislative appropriation from the arts and cultural heritage fund. 
URL:https://centralsquare.org/event/weary-ramblers-award-winning-americana-duo/
LOCATION:Central Square Inc.\, 105 2nd Avenue Northeast\, Glenwood\, MN\, 56334\, United States
CATEGORIES:Live Music
ATTACH;FMTTYPE=image/webp:https://centralsquare.org/wp-content/uploads/2025/12/Weary-Ramblers-Phto.webp
ORGANIZER;CN="Central Square Inc.":MAILTO:info@centralsquare.org
END:VEVENT
BEGIN:VEVENT
DTSTART;TZID=America/Chicago:20260912T190000
DTEND;TZID=America/Chicago:20260912T210000
DTSTAMP:20260423T134703
CREATED:20251218T222447Z
LAST-MODIFIED:20260306T193617Z
UID:22033-1789239600-1789246800@centralsquare.org
SUMMARY:Mitchell Hall and The Tennessee Trio — Honoring Johnny Cash
DESCRIPTION:Back by popular demand! This concert focuses on the early years of Johnny Cash\, capturing the sound and spirit that defined his rise. Mitchell Hall portrays a young Johnny Cash through voice\, presence\, and song\, drawing from the period when Cash’s style and storytelling first took shape.  \nBacked by The Tennessee Trio\, the performance recreates the signature “boom-chick-a-boom” sound that became inseparable from Cash’s music. With careful attention to tone\, rhythm\, and arrangement\, the band presents a focused tribute that reflects the roots of Johnny Cash’s enduring legacy.  \nTo purchase tickets or learn more\, click here!   \nOr contact Central Square:\nPhone: (320)634–0400\nEmail: info@centralsquare.org\nLocation: 105 2nd Avenue Northeast Ste. 108 Glenwood\, MN 56334  \nThis activity is made possible by the voters of Minnesota through a grant from the Minnesota State Arts Board\, thanks to a legislative appropriation from the arts and cultural heritage fund. 
URL:https://centralsquare.org/event/mitchell-hall-and-the-tennessee-trio-honoring-johnny-cash/
LOCATION:Central Square Inc.\, 105 2nd Avenue Northeast\, Glenwood\, MN\, 56334\, United States
CATEGORIES:Live Music
ATTACH;FMTTYPE=image/webp:https://centralsquare.org/wp-content/uploads/2025/12/Mitchell-Hall-Photo-e1765302695447.webp
ORGANIZER;CN="Central Square Inc.":MAILTO:info@centralsquare.org
END:VEVENT
BEGIN:VEVENT
DTSTART;TZID=America/Chicago:20261010T190000
DTEND;TZID=America/Chicago:20261010T210000
DTSTAMP:20260423T134703
CREATED:20251218T214937Z
LAST-MODIFIED:20260306T193511Z
UID:22019-1791658800-1791666000@centralsquare.org
SUMMARY:Amy Daves — Only Yesterday! Tribute to Karen Carpenter\, Anne Murray\, and Ronstadt
DESCRIPTION:Only Yesterday features vocalist and musician Amy Daves of Olympia\, Washington. Daves has toured nationally for more than a decade as a fiddle player and vocalist with Ted Vigil’s acclaimed Tribute to John Denver\, bringing depth and musicianship shaped by years of performance.  \nThis concert traces a musical path through the 1970s\, honoring the voices of Karen Carpenter\, Anne Murray\, and Linda Ronstadt. The presentation pairs each song with period-inspired visual backgrounds\, creating an immersive experience rooted in memory and era. Audience members are invited to dress in 1970s style for a themed photo opportunity.  \nTo purchase tickets or learn more\, click here!   \nOr contact Central Square:\nPhone: (320)634–0400\nEmail: info@centralsquare.org\nLocation: 105 2nd Avenue Northeast Ste. 108 Glenwood\, MN 56334  \nThis activity is made possible by the voters of Minnesota through a grant from the Minnesota State Arts Board\, thanks to a legislative appropriation from the arts and cultural heritage fund. 
URL:https://centralsquare.org/event/amy-daves-only-yesterday-tribute-to-karen-carpenter-anne-murray-and-ronstadt/
LOCATION:Central Square Inc.\, 105 2nd Avenue Northeast\, Glenwood\, MN\, 56334\, United States
CATEGORIES:Live Music
ATTACH;FMTTYPE=image/webp:https://centralsquare.org/wp-content/uploads/2025/12/meta_eyJzcmNCdWNrZXQiOiJiemdsZmlsZXMifQ-1-e1765302922645.webp
ORGANIZER;CN="Central Square Inc.":MAILTO:info@centralsquare.org
END:VEVENT
BEGIN:VEVENT
DTSTART;TZID=America/Chicago:20261107T190000
DTEND;TZID=America/Chicago:20261107T210000
DTSTAMP:20260423T134703
CREATED:20251218T214905Z
LAST-MODIFIED:20260306T193415Z
UID:22021-1794078000-1794085200@centralsquare.org
SUMMARY:Comedian David Harris — Featuring Linda Aarons
DESCRIPTION:Emmy Award–winning comedian David Harris brings more than 30 years of stand-up experience to the stage. His comedy draws from family life\, relationships\, and the shared anxieties of modern living\, shaped by sharp observation and audience interaction. Harris has performed across the U.S. and Canada and is featured in a widely viewed Dry Bar Comedy special.  \nThe evening also features Linda Aarons\, a former Minnesota’s Funniest Person winner known for her dry delivery\, cultural insight\, and precise punchlines. Together\, they present a night of stand-up rooted in craft\, timing\, and connection.  \nTo purchase tickets or learn more\, click here!   \nOr contact Central Square:\nPhone: (320)634–0400\nEmail: info@centralsquare.org\nLocation: 105 2nd Avenue Northeast Ste. 108 Glenwood\, MN 56334  \nThis activity is made possible by the voters of Minnesota through a grant from the Minnesota State Arts Board\, thanks to a legislative appropriation from the arts and cultural heritage fund. 
URL:https://centralsquare.org/event/comedian-david-harris-featuring-linda-aarons/
LOCATION:Central Square Inc.\, 105 2nd Avenue Northeast\, Glenwood\, MN\, 56334\, United States
CATEGORIES:Comedy
ATTACH;FMTTYPE=image/jpeg:https://centralsquare.org/wp-content/uploads/2025/12/DavidHarris_072New-scaled-e1766093238730.jpeg
ORGANIZER;CN="Central Square Inc.":MAILTO:info@centralsquare.org
END:VEVENT
BEGIN:VEVENT
DTSTART;TZID=America/Chicago:20261205T190000
DTEND;TZID=America/Chicago:20261205T210000
DTSTAMP:20260423T134703
CREATED:20251218T214758Z
LAST-MODIFIED:20260306T193252Z
UID:22024-1796497200-1796504400@centralsquare.org
SUMMARY:Holiday Soul — The Joyann Parker Band
DESCRIPTION:Joyann Parker is a vocalist\, songwriter\, and multi-instrumentalist whose work blends soul\, R&B\, gospel\, jazz\, and traditional blues. Critics have praised her voice as both powerful and emotionally resonant\, calling it a defining force in her music. With roots in church music and a strong foundation in musical study\, Parker developed a sound that reflects lived experience and deep musical lineage.  \nHer latest album\, Roots\, debuted at #10 on the Billboard Blues Chart\, and her work continues to reach audiences on national and international stages. Joined by her band\, Parker brings a full-bodied performance shaped by strong songwriting\, expressive vocals\, and thoughtful musicianship.  \nHoliday Soul offers a seasonal concert grounded in warmth\, groove\, and soul—an evening that reflects both tradition and Parker’s distinct artistic voice.  \nTo purchase tickets or learn more\, click here!   \nOr contact Central Square:\nPhone: (320)634–0400\nEmail: info@centralsquare.org\nLocation: 105 2nd Avenue Northeast Ste. 108 Glenwood\, MN 56334  \nThis activity is made possible by the voters of Minnesota through a grant from the Minnesota State Arts Board\, thanks to a legislative appropriation from the arts and cultural heritage fund. 
URL:https://centralsquare.org/event/holiday-soul-the-joyann-parker-band/
LOCATION:Central Square Inc.\, 105 2nd Avenue Northeast\, Glenwood\, MN\, 56334\, United States
CATEGORIES:Live Music
ATTACH;FMTTYPE=image/jpeg:https://centralsquare.org/wp-content/uploads/2025/12/IMG_0035-scaled.jpeg
ORGANIZER;CN="Central Square Inc.":MAILTO:info@centralsquare.org
END:VEVENT
END:VCALENDAR